BEGIN:VCALENDAR
VERSION:2.0
PRODID:-//Plone.org//NONSGML plone.app.event//EN
X-WR-TIMEZONE:America/Sao_Paulo
BEGIN:VEVENT
SUMMARY:Pré-reserva Cinema na Mata: sessão comentada do filme AMANHÃ em
  [ Auditorio A102 do Cad 2]
DTSTART;TZID=America/Sao_Paulo;VALUE=DATE-TIME:20240424T180000
DTEND;TZID=America/Sao_Paulo;VALUE=DATE-TIME:20240424T220000
DTSTAMP;VALUE=DATE-TIME:20260420T044606Z
UID:e6ef606d9e0c49f48a14afd9c5ad00ba@150.164.76.86:8080
CREATED;VALUE=DATE-TIME:20240404T152547Z
DESCRIPTION:<p>Pré-reserva</p>
LAST-MODIFIED;VALUE=DATE-TIME:20240404T152625Z
URL:http://150.164.76.86:8080/cac/agenda/6728049041819150142
END:VEVENT
BEGIN:VTIMEZONE
TZID:America/Sao_Paulo
X-LIC-LOCATION:America/Sao_Paulo
BEGIN:STANDARD
DTSTART;VALUE=DATE-TIME:20240217T230000
TZNAME:BRT
TZOFFSETFROM:-0200
TZOFFSETTO:-0300
END:STANDARD
END:VTIMEZONE
END:VCALENDAR
