BEGIN:VCALENDAR
VERSION:2.0
PRODID:-//Plone.org//NONSGML plone.app.event//EN
X-WR-TIMEZONE:America/Sao_Paulo
BEGIN:VEVENT
SUMMARY:Quarta doze e Trinta em [ Arena da praça de serviços]
DTSTART;TZID=America/Sao_Paulo;VALUE=DATE-TIME:20231018T080000
DTEND;TZID=America/Sao_Paulo;VALUE=DATE-TIME:20231018T150000
DTSTAMP;VALUE=DATE-TIME:20260421T003717Z
UID:3eccd40b8b4d4ac49a9378d6e2a42e40@150.164.76.86:8080
CREATED;VALUE=DATE-TIME:20221124T162310Z
DESCRIPTION:Quarta doze e trinta\, Equipamentos a definir. somente reserva
  do espaço.
LAST-MODIFIED;VALUE=DATE-TIME:20231003T123829Z
URL:http://150.164.76.86:8080/cac/agenda/6727859749372801750
END:VEVENT
BEGIN:VTIMEZONE
TZID:America/Sao_Paulo
X-LIC-LOCATION:America/Sao_Paulo
BEGIN:DAYLIGHT
DTSTART;VALUE=DATE-TIME:20231015T010000
TZNAME:BRST
TZOFFSETFROM:-0300
TZOFFSETTO:-0200
END:DAYLIGHT
END:VTIMEZONE
END:VCALENDAR
