BEGIN:VCALENDAR
VERSION:2.0
PRODID:-//Plone.org//NONSGML plone.app.event//EN
X-WR-TIMEZONE:America/Sao_Paulo
BEGIN:VEVENT
SUMMARY:SIMPÓSIO SOBRE INFECÇÃO HUMANA CONTROLADA - ESTRATÉGIAS PARA A
 CELERAR O DESENVOLVIMENTO DE VACINAS em [ Auditorio A104 do Cad 2]
DTSTART;TZID=America/Sao_Paulo;VALUE=DATE-TIME:20240808T080000
DTEND;TZID=America/Sao_Paulo;VALUE=DATE-TIME:20240809T210000
DTSTAMP;VALUE=DATE-TIME:20260419T222858Z
UID:9b9a843fafc245f8a3eff4422f36d842@150.164.76.86:8080
CREATED;VALUE=DATE-TIME:20240205T132725Z
DESCRIPTION:<p>Trata-se de um simpósio com autoridades do CHIM em modelo\
 , ética e engajamento público para apresentar sua experiência às parte
 s interessadas brasileiras como meio de gerar massa crítica de interesse 
 para avançar nos modelos de infecção. A aprovação de modelos de infec
 ção encontrou forte oposição de importantes membros da Sociedade Brasi
 leira de Bioética e do Comitê Nacional de Ética em Pesquisa (CONEP). O 
 objetivo deste workshop é envolver os membros da sociedade brasileira\, e
 specialmente as partes interessadas\, sobre a importância e o impacto que
  o CHIM tem no desenvolvimento de vacinas. É importante trazer especialis
 tas em ética e engajamento de países desenvolvidos e em desenvolvimento\
 , para que os stakeholders brasileiros da ética possam ver a experiência
  de como a ética é discutida em ambos os cenários. Ofereceremos alguns 
 lugares para convidados especiais (lista abaixo) e os lugares também ser
 ão abertos ao público como parte de um compromisso público. No processo
  de inscrição ao público em geral será solicitada justificativa de int
 eresse pelo tema\, para que possam ser selecionados os principais membros 
 da sociedade.</p>
LAST-MODIFIED;VALUE=DATE-TIME:20240704T123623Z
URL:http://150.164.76.86:8080/cac/agenda/6725590161613625313
END:VEVENT
BEGIN:VTIMEZONE
TZID:America/Sao_Paulo
X-LIC-LOCATION:America/Sao_Paulo
BEGIN:STANDARD
DTSTART;VALUE=DATE-TIME:20240217T230000
TZNAME:BRT
TZOFFSETFROM:-0200
TZOFFSETTO:-0300
END:STANDARD
END:VTIMEZONE
END:VCALENDAR
