BEGIN:VCALENDAR
VERSION:2.0
PRODID:-//Plone.org//NONSGML plone.app.event//EN
X-WR-TIMEZONE:America/Sao_Paulo
BEGIN:VEVENT
SUMMARY:Lançamento Edital InovaLab UFMG - 2024 em [ Auditorio A104 do Cad
  2]
DTSTART;TZID=America/Sao_Paulo;VALUE=DATE-TIME:20241119T130000
DTEND;TZID=America/Sao_Paulo;VALUE=DATE-TIME:20241119T180000
DTSTAMP;VALUE=DATE-TIME:20260419T192112Z
UID:5b5ffa6759ee4e7b80fa0ab633d8d63b@150.164.76.86:8080
CREATED;VALUE=DATE-TIME:20241016T132504Z
DESCRIPTION:Necessário material de audiovisual\, mesas e hall para coffee
 .
LAST-MODIFIED;VALUE=DATE-TIME:20241016T133624Z
URL:http://150.164.76.86:8080/cac/agenda/6723215359066338874
END:VEVENT
BEGIN:VTIMEZONE
TZID:America/Sao_Paulo
X-LIC-LOCATION:America/Sao_Paulo
BEGIN:DAYLIGHT
DTSTART;VALUE=DATE-TIME:20241020T010000
TZNAME:BRST
TZOFFSETFROM:-0300
TZOFFSETTO:-0200
END:DAYLIGHT
END:VTIMEZONE
END:VCALENDAR
