BEGIN:VCALENDAR
VERSION:2.0
PRODID:-//Plone.org//NONSGML plone.app.event//EN
X-WR-TIMEZONE:America/Sao_Paulo
BEGIN:VEVENT
SUMMARY:IX FÓRUM DE COORDENADORES DO PROFLETRAS em [ Auditorio A104 do Ca
 d 2]
DTSTART;TZID=America/Sao_Paulo;VALUE=DATE-TIME:20250318T123000
DTEND;TZID=America/Sao_Paulo;VALUE=DATE-TIME:20250320T133000
DTSTAMP;VALUE=DATE-TIME:20260419T120247Z
UID:77c22dc3d03f472dbe7d40107d6332e5@150.164.76.86:8080
CREATED;VALUE=DATE-TIME:20250214T122351Z
DESCRIPTION:Encontro dos coordenadores do PROFLETRAS (Mestrado Profissiona
 l em Letras) em Rede Nacional e representantes da CAPES.\nOs equipamentos 
 necessários para a realização do evento são: microfones\, data show e 
 notebook.\n\nPROGRAMAÇÃO\n\n18/03/2025 - Terça-feira\n13h30 - Credencia
 mento\n14h - Abetura do IX Fórum de Coordenadores do PROFLETRAS\n14h30 - 
 Momento CAPES\n15h30 - Intervalo\n15h50 - Sessão intertiva com a Coordena
 ção da Área 51\n17h - Encerramento\n18h - Reunião sobre a proposta de 
 Doutorado Profissional em Letras\n\n19/03/2025 - Quarta-feira\n09h - Mesa 
 com os Coordenadores de disciplinas\n12h - Almoço\n14h - Mesa com os memb
 ros do Conselho Gestor do PROFLETRAS:\nResultados dos Fóruns Regionais de
  Coordenadores do PROFLETRAS\n15h30 - Intervalo\n15h50 - Mesa com a Comiss
 ão de Avaliação\n\n20/03/2025 - Quinta-feira\n09h - Plenária\n12h - En
 cerramento
LAST-MODIFIED;VALUE=DATE-TIME:20250214T150605Z
URL:http://150.164.76.86:8080/cac/agenda/6719234210240013727
END:VEVENT
BEGIN:VTIMEZONE
TZID:America/Sao_Paulo
X-LIC-LOCATION:America/Sao_Paulo
BEGIN:STANDARD
DTSTART;VALUE=DATE-TIME:20250215T230000
TZNAME:BRT
TZOFFSETFROM:-0200
TZOFFSETTO:-0300
END:STANDARD
END:VTIMEZONE
END:VCALENDAR
