BEGIN:VCALENDAR
VERSION:2.0
PRODID:-//Plone.org//NONSGML plone.app.event//EN
X-WR-TIMEZONE:America/Sao_Paulo
BEGIN:VEVENT
SUMMARY:XII Encontro de Pesquisa em Parasitologia em [ Auditorio Nobre do 
 CAD 1]
DTSTART;TZID=America/Sao_Paulo;VALUE=DATE-TIME:20221201T080000
DTEND;TZID=America/Sao_Paulo;VALUE=DATE-TIME:20221202T200000
DTSTAMP;VALUE=DATE-TIME:20260421T192209Z
UID:719e71a5422c4315b8defd9bd5006a2c@150.164.76.86:8080
CREATED;VALUE=DATE-TIME:20220505T123431Z
DESCRIPTION:Data Show\nNotebook\nSom caso passem alguma apresentação que
  necessite.\nMicrofones de mesa - 3\nmesa e cadeiras para abertura e encer
 ramento  - 07 pessoas\nbandeiras \npúlpito com microfone  \nSe na época 
 puder -  dois microfones sem fio\nPeineis para apresentação de posters -
  40 \nSe na época puder\, podemos oferecer coffee breack ?\n\nServiços:\
 nTécnico de operação\nLimpeza
LAST-MODIFIED;VALUE=DATE-TIME:20220510T124905Z
URL:http://150.164.76.86:8080/cac/agenda/6714245814257206520
END:VEVENT
BEGIN:VTIMEZONE
TZID:America/Sao_Paulo
X-LIC-LOCATION:America/Sao_Paulo
BEGIN:DAYLIGHT
DTSTART;VALUE=DATE-TIME:20221016T010000
TZNAME:BRST
TZOFFSETFROM:-0300
TZOFFSETTO:-0200
END:DAYLIGHT
END:VTIMEZONE
END:VCALENDAR
