BEGIN:VCALENDAR
VERSION:2.0
PRODID:-//Plone.org//NONSGML plone.app.event//EN
X-WR-TIMEZONE:America/Sao_Paulo
BEGIN:VEVENT
SUMMARY:Domingo no Campus em [ Outros espacos]
DTSTART;TZID=America/Sao_Paulo;VALUE=DATE-TIME:20200913T080000
DTEND;TZID=America/Sao_Paulo;VALUE=DATE-TIME:20200913T140000
DTSTAMP;VALUE=DATE-TIME:20260424T183600Z
UID:8a407c9fa806416fa6d13e1e1450ce91@150.164.76.86:8080
CREATED;VALUE=DATE-TIME:20200102T142133Z
DESCRIPTION:<p>Conforme solicitação da Coordenadora da CAC Cássia Monte
 iro</p>
LAST-MODIFIED;VALUE=DATE-TIME:20200102T144045Z
URL:http://150.164.76.86:8080/cac/agenda/6685548459921339710
END:VEVENT
BEGIN:VTIMEZONE
TZID:America/Sao_Paulo
X-LIC-LOCATION:America/Sao_Paulo
BEGIN:STANDARD
DTSTART;VALUE=DATE-TIME:20200215T230000
TZNAME:BRT
TZOFFSETFROM:-0200
TZOFFSETTO:-0300
END:STANDARD
END:VTIMEZONE
END:VCALENDAR
