BEGIN:VCALENDAR
VERSION:2.0
PRODID:-//Plone.org//NONSGML plone.app.event//EN
X-WR-TIMEZONE:America/Sao_Paulo
BEGIN:VEVENT
SUMMARY:Momento Formativo 2: Fortalece PSE SES MG/Ministério da Saúde em
  [ Outros espacos Auditório B106 do CAD3]
DTSTART;TZID=America/Sao_Paulo;VALUE=DATE-TIME:20240917T080000
DTEND;TZID=America/Sao_Paulo;VALUE=DATE-TIME:20240919T180000
DTSTAMP;VALUE=DATE-TIME:20260419T205224Z
UID:ac2cb985e6c84270b9229e531b4f67de@150.164.76.86:8080
CREATED;VALUE=DATE-TIME:20240814T174738Z
DESCRIPTION:<p>O evento intitulado Fortalece PSE – Momento Formativo 2 s
 erá realizado pela Secretaria de Estado de Saúde de Minas Gerais e o Min
 istério da Saúde. Foi nos solicitado o apoio com a disponibilização de
  espaço físico para a realização do evento\, será necessário uma sal
 a ou auditório com capacidade para 100 pessoas e duas outras salas com ca
 pacidade para 50 pessoas para o trabalho em grupos. O espaço para 100 pes
 soas será utilizado para os momentos de assembleia e as duas outras salas
  para a realização do trabalho em grupo\, ou seja\, nos momentos em que 
 os participantes serão divididos em 2 grupos de trabalho. Gostaria de sab
 er se estes espaço estão disponíveis em algum dos CAD. Atenciosamente\,
  Profa. Viviane E. Gomes Pró-Reitoria de Extensão - PROEX Diretoria de F
 omento e Avaliação da Extensão - DAFE Fone: +55 (31) 3409-3928 / 4637</
 p>
LAST-MODIFIED;VALUE=DATE-TIME:20240912T115352Z
URL:http://150.164.76.86:8080/cac/agenda/6676758137780891086
END:VEVENT
BEGIN:VTIMEZONE
TZID:America/Sao_Paulo
X-LIC-LOCATION:America/Sao_Paulo
BEGIN:STANDARD
DTSTART;VALUE=DATE-TIME:20240217T230000
TZNAME:BRT
TZOFFSETFROM:-0200
TZOFFSETTO:-0300
END:STANDARD
END:VTIMEZONE
END:VCALENDAR
