BEGIN:VCALENDAR
VERSION:2.0
PRODID:-//Plone.org//NONSGML plone.app.event//EN
X-WR-TIMEZONE:America/Sao_Paulo
BEGIN:VEVENT
SUMMARY:Colação de grau dos formandos 2023/2 da EEFFTO/UFMG em [ Auditor
 io Nobre do CAD 1]
DTSTART;TZID=America/Sao_Paulo;VALUE=DATE-TIME:20240131T080000
DTEND;TZID=America/Sao_Paulo;VALUE=DATE-TIME:20240131T180000
DTSTAMP;VALUE=DATE-TIME:20260420T111132Z
UID:27aa784e78da4bd9a5fd75efdfb27262@150.164.76.86:8080
CREATED;VALUE=DATE-TIME:20231201T195335Z
DESCRIPTION:<p>Bandeiras\, mesa com 8 lugares equipamento e equipe audiovi
 sual</p>
LAST-MODIFIED;VALUE=DATE-TIME:20231211T154254Z
URL:http://150.164.76.86:8080/cac/agenda/6675005047240321138
END:VEVENT
BEGIN:VTIMEZONE
TZID:America/Sao_Paulo
X-LIC-LOCATION:America/Sao_Paulo
BEGIN:DAYLIGHT
DTSTART;VALUE=DATE-TIME:20231015T010000
TZNAME:BRST
TZOFFSETFROM:-0300
TZOFFSETTO:-0200
END:DAYLIGHT
END:VTIMEZONE
END:VCALENDAR
