BEGIN:VCALENDAR
VERSION:2.0
PRODID:-//Plone.org//NONSGML plone.app.event//EN
X-WR-TIMEZONE:America/Sao_Paulo
BEGIN:VEVENT
SUMMARY:Teatro de Cordel  Heroinas Negras Brasileiras em [ Arena da praça
  de serviços]
DTSTART;TZID=America/Sao_Paulo;VALUE=DATE-TIME:20240830T123000
DTEND;TZID=America/Sao_Paulo;VALUE=DATE-TIME:20240830T170000
DTSTAMP;VALUE=DATE-TIME:20260419T222704Z
UID:1b911185fe1a40798a2815433b77889d@150.164.76.86:8080
CREATED;VALUE=DATE-TIME:20240816T210126Z
DESCRIPTION:Não será necessário equipamentos e serviços. Solicitamos s
 omente o espaço para apresentação a comunidade universitária da produ
 ção final da aula Teatro de Cordel  Heroínas Negras Brasileiras.\n\nDes
 de já agradecemos.
LAST-MODIFIED;VALUE=DATE-TIME:20240819T152951Z
URL:http://150.164.76.86:8080/cac/agenda/6636676870165206388
END:VEVENT
BEGIN:VTIMEZONE
TZID:America/Sao_Paulo
X-LIC-LOCATION:America/Sao_Paulo
BEGIN:STANDARD
DTSTART;VALUE=DATE-TIME:20240217T230000
TZNAME:BRT
TZOFFSETFROM:-0200
TZOFFSETTO:-0300
END:STANDARD
END:VTIMEZONE
END:VCALENDAR
