BEGIN:VCALENDAR
VERSION:2.0
PRODID:-//Plone.org//NONSGML plone.app.event//EN
X-WR-TIMEZONE:America/Sao_Paulo
BEGIN:VEVENT
SUMMARY:Escola de Inverno Inovações Democráticas Transnacionais  em [ A
 uditorio Nobre do CAD 1 Auditório B101/102 do CAD 3 Auditorio A102 do Cad
  2 Auditorio A104 do Cad 2]
DTSTART;TZID=America/Sao_Paulo;VALUE=DATE-TIME:20240610T070000
DTEND;TZID=America/Sao_Paulo;VALUE=DATE-TIME:20240614T210000
DTSTAMP;VALUE=DATE-TIME:20260420T012540Z
UID:e61712b3669e4724ac4269044add1393@150.164.76.86:8080
CREATED;VALUE=DATE-TIME:20240108T174144Z
DESCRIPTION:<p>Evento da Reitora com transmissão</p>
LAST-MODIFIED;VALUE=DATE-TIME:20240523T142012Z
URL:http://150.164.76.86:8080/cac/agenda/6630469933572585762
END:VEVENT
BEGIN:VTIMEZONE
TZID:America/Sao_Paulo
X-LIC-LOCATION:America/Sao_Paulo
BEGIN:STANDARD
DTSTART;VALUE=DATE-TIME:20240217T230000
TZNAME:BRT
TZOFFSETFROM:-0200
TZOFFSETTO:-0300
END:STANDARD
END:VTIMEZONE
END:VCALENDAR
