BEGIN:VCALENDAR
VERSION:2.0
PRODID:-//Plone.org//NONSGML plone.app.event//EN
X-WR-TIMEZONE:America/Sao_Paulo
BEGIN:VEVENT
SUMMARY:Congresso Brasileiro de Enfermagem Pediatrica e Neonatal em [ Audi
 torio Nobre do CAD 1 Auditório B101/102 do CAD 3 Auditório B106 do CAD3 
 Auditório B107 do CAD3]
DTSTART;TZID=America/Sao_Paulo;VALUE=DATE-TIME:20231009T070000
DTEND;TZID=America/Sao_Paulo;VALUE=DATE-TIME:20231011T080000
DTSTAMP;VALUE=DATE-TIME:20260421T015846Z
UID:63662483c5284a6d9d39a2cccc7f0103@150.164.76.86:8080
CREATED;VALUE=DATE-TIME:20221004T190742Z
DESCRIPTION:<p>Trata-se de um evento vinculado à Escola de Enfermagem\, s
 ob coordenação da Profa. Elysângela Dittz Duarte. A diretoria encaminha
 rá o ofício de solicitação de cessão do espaço.</p>
LAST-MODIFIED;VALUE=DATE-TIME:20230111T201131Z
URL:http://150.164.76.86:8080/cac/agenda/6610267266316671094
END:VEVENT
BEGIN:VTIMEZONE
TZID:America/Sao_Paulo
X-LIC-LOCATION:America/Sao_Paulo
BEGIN:STANDARD
DTSTART;VALUE=DATE-TIME:20230225T230000
TZNAME:BRT
TZOFFSETFROM:-0200
TZOFFSETTO:-0300
END:STANDARD
END:VTIMEZONE
END:VCALENDAR
