BEGIN:VCALENDAR
VERSION:2.0
PRODID:-//Plone.org//NONSGML plone.app.event//EN
X-WR-TIMEZONE:America/Sao_Paulo
BEGIN:VEVENT
SUMMARY:Projeto eventos Culturais em [ Outros espacos]
DTSTART;TZID=America/Sao_Paulo;VALUE=DATE-TIME:20221006T170000
DTEND;TZID=America/Sao_Paulo;VALUE=DATE-TIME:20221006T220000
DTSTAMP;VALUE=DATE-TIME:20260421T221747Z
UID:71a64a24b285451d82250caf44ef60d3@150.164.76.86:8080
CREATED;VALUE=DATE-TIME:20220830T184012Z
DESCRIPTION:Evento: lançamento do CD da cantora Lucinha Bosco\, da Velha 
 Guarda do Samba de BH.\n\nLocal: auditório - horário: 20 h\nPassagem de 
 som: 18:30h horas\n\nSolicitação de Pessoal:  01 técnico de som\;\n\nEq
 uipamentos: Será utilizado os equipamentos do Centro Cultural.\nE como ai
 nda não recebemos o Rider tecnico e mapa de palco.\, não temos condiçõ
 es de avaliar e ver a necessidade de equipamentos da CAC.\n\nAssim que rec
 ebermos o Rider técnico\, enviamos por e-mail para a CAC.\n\natt.
LAST-MODIFIED;VALUE=DATE-TIME:20220927T122024Z
URL:http://150.164.76.86:8080/cac/agenda/6575520986421400895
END:VEVENT
BEGIN:VTIMEZONE
TZID:America/Sao_Paulo
X-LIC-LOCATION:America/Sao_Paulo
BEGIN:STANDARD
DTSTART;VALUE=DATE-TIME:20220219T230000
TZNAME:BRT
TZOFFSETFROM:-0200
TZOFFSETTO:-0300
END:STANDARD
END:VTIMEZONE
END:VCALENDAR
