BEGIN:VCALENDAR
VERSION:2.0
PRODID:-//Plone.org//NONSGML plone.app.event//EN
X-WR-TIMEZONE:America/Sao_Paulo
BEGIN:VEVENT
SUMMARY:Nome provisório: Evento de acolhimento e cuidado das Escutas da U
 FMG em [ Gramado da Reitoria]
DTSTART;TZID=America/Sao_Paulo;VALUE=DATE-TIME:20240926T083000
DTEND;TZID=America/Sao_Paulo;VALUE=DATE-TIME:20240926T173000
DTSTAMP;VALUE=DATE-TIME:20260419T205315Z
UID:ab9d3441985541fb9333b66ed529be39@150.164.76.86:8080
CREATED;VALUE=DATE-TIME:20240903T202343Z
DESCRIPTION:Pensado pelos núcleos de Escuta e Acolhimento da UFMG\, o eve
 nto está ligado à recepção dos estudantes\, calouros e veteranos\, par
 a o segundo semestre de 2024.\nA acolhida pretende abarcar os demais públ
 icos da UFMG\, como servidores TAE's e docentes\, terceirizados e demais p
 essoas que frequentam os espaços da UFMG\, com a ideia de promover um dia
  de práticas integrativas de autocuidado e acolhimento humanizado.
LAST-MODIFIED;VALUE=DATE-TIME:20240904T163410Z
URL:http://150.164.76.86:8080/cac/agenda/654849555984091548
END:VEVENT
BEGIN:VTIMEZONE
TZID:America/Sao_Paulo
X-LIC-LOCATION:America/Sao_Paulo
BEGIN:STANDARD
DTSTART;VALUE=DATE-TIME:20240217T230000
TZNAME:BRT
TZOFFSETFROM:-0200
TZOFFSETTO:-0300
END:STANDARD
END:VTIMEZONE
END:VCALENDAR
