BEGIN:VCALENDAR
VERSION:2.0
PRODID:-//Plone.org//NONSGML plone.app.event//EN
X-WR-TIMEZONE:America/Sao_Paulo
BEGIN:VEVENT
SUMMARY:Reunião Conselho Universitário em [ Outros espacos]
DTSTART;TZID=America/Sao_Paulo;VALUE=DATE-TIME:20240423T140000
DTEND;TZID=America/Sao_Paulo;VALUE=DATE-TIME:20240423T180000
DTSTAMP;VALUE=DATE-TIME:20260420T044321Z
UID:d1c2ceed4b4c40faa1bc3f09d92e3515@150.164.76.86:8080
CREATED;VALUE=DATE-TIME:20240328T152728Z
DESCRIPTION:<p><span style="text-align: left\; text-decoration-thickness: 
 initial\; text-decoration-style: initial\; text-decoration-color: initial\
 ; float: none\; ">Reunião Conselho Universitário (a confirmar)</span></p
 >
LAST-MODIFIED;VALUE=DATE-TIME:20240328T152933Z
URL:http://150.164.76.86:8080/cac/agenda/6521934529138022062
END:VEVENT
BEGIN:VTIMEZONE
TZID:America/Sao_Paulo
X-LIC-LOCATION:America/Sao_Paulo
BEGIN:STANDARD
DTSTART;VALUE=DATE-TIME:20240217T230000
TZNAME:BRT
TZOFFSETFROM:-0200
TZOFFSETTO:-0300
END:STANDARD
END:VTIMEZONE
END:VCALENDAR
