BEGIN:VCALENDAR
VERSION:2.0
PRODID:-//Plone.org//NONSGML plone.app.event//EN
X-WR-TIMEZONE:America/Sao_Paulo
BEGIN:VEVENT
SUMMARY:Seminário Integração Docente em [ Auditorio da Reitoria Saguao 
 da Reitoria Gramado da Reitoria Arena da praça de serviços Auditorio Nob
 re do CAD 1 Auditorio A102 do Cad 2 Auditorio A104 do Cad 2 Auditório B10
 1/102 do CAD 3 Auditório B106 do CAD3 Auditório B107 do CAD3]
DTSTART;TZID=America/Sao_Paulo;VALUE=DATE-TIME:20240807T070000
DTEND;TZID=America/Sao_Paulo;VALUE=DATE-TIME:20240807T220000
DTSTAMP;VALUE=DATE-TIME:20260419T222834Z
UID:dd3027e287f44e419b3d28d3b42086b0@150.164.76.86:8080
CREATED;VALUE=DATE-TIME:20231106T140850Z
DESCRIPTION:<p>Seminário Integração Docente.</p>
LAST-MODIFIED;VALUE=DATE-TIME:20240801T141527Z
URL:http://150.164.76.86:8080/cac/agenda/6502286624630871481
END:VEVENT
BEGIN:VTIMEZONE
TZID:America/Sao_Paulo
X-LIC-LOCATION:America/Sao_Paulo
BEGIN:STANDARD
DTSTART;VALUE=DATE-TIME:20240217T230000
TZNAME:BRT
TZOFFSETFROM:-0200
TZOFFSETTO:-0300
END:STANDARD
END:VTIMEZONE
END:VCALENDAR
