BEGIN:VCALENDAR
VERSION:2.0
PRODID:-//Plone.org//NONSGML plone.app.event//EN
X-WR-TIMEZONE:America/Sao_Paulo
BEGIN:VEVENT
SUMMARY:Reunião Reitora em [ Outros espacos]
DTSTART;TZID=America/Sao_Paulo;VALUE=DATE-TIME:20220429T143000
DTEND;TZID=America/Sao_Paulo;VALUE=DATE-TIME:20220429T173000
DTSTAMP;VALUE=DATE-TIME:20260422T093703Z
UID:062e90da878446d5aec232d8b00406a1@150.164.76.86:8080
CREATED;VALUE=DATE-TIME:20220426T140845Z
DESCRIPTION:<p>Reunião Reitora</p>
LAST-MODIFIED;VALUE=DATE-TIME:20220426T141114Z
URL:http://150.164.76.86:8080/cac/agenda/6494476768433752470
END:VEVENT
BEGIN:VTIMEZONE
TZID:America/Sao_Paulo
X-LIC-LOCATION:America/Sao_Paulo
BEGIN:STANDARD
DTSTART;VALUE=DATE-TIME:20220219T230000
TZNAME:BRT
TZOFFSETFROM:-0200
TZOFFSETTO:-0300
END:STANDARD
END:VTIMEZONE
END:VCALENDAR
