BEGIN:VCALENDAR
VERSION:2.0
PRODID:-//Plone.org//NONSGML plone.app.event//EN
X-WR-TIMEZONE:America/Sao_Paulo
BEGIN:VEVENT
SUMMARY:Recepção de Estudantes | 2º Semestre de 2024 em [ Outros espaco
 s]
DTSTART;TZID=America/Sao_Paulo;VALUE=DATE-TIME:20240918T080000
DTEND;TZID=America/Sao_Paulo;VALUE=DATE-TIME:20240927T190000
DTSTAMP;VALUE=DATE-TIME:20260419T205224Z
UID:56407a6316a043d198de6bd7028bc79c@150.164.76.86:8080
CREATED;VALUE=DATE-TIME:20240827T151701Z
DESCRIPTION:Recepção dos Estudantes Calouros/Calouras que acontece a par
 tir do dia 18 de setembro até o dia 27 de setembro.\n\nNa ocasião serão
  instaladas duas Tendas de 3M X 3M totalizando 6 M² em frente ao Picadeir
 o.\n\nNas Tendas serão fornecidas informações sobre o funcionamento da 
 UFMGa\, além da distribuição de mapas e marcadores da PRAE.\n\nNas Tend
 as ficarão duas mesas e cinco cadeiras de plástico para os estudantes qu
 e farão a Recepção.\n\nA instalação das duas Tendas é de responsabil
 idade da PRAE com a FUMP.\n\nA Tenda funcionará de 8:30 às 19h.
LAST-MODIFIED;VALUE=DATE-TIME:20240827T154413Z
URL:http://150.164.76.86:8080/cac/agenda/6478086257728828526
END:VEVENT
BEGIN:VTIMEZONE
TZID:America/Sao_Paulo
X-LIC-LOCATION:America/Sao_Paulo
BEGIN:STANDARD
DTSTART;VALUE=DATE-TIME:20240217T230000
TZNAME:BRT
TZOFFSETFROM:-0200
TZOFFSETTO:-0300
END:STANDARD
END:VTIMEZONE
END:VCALENDAR
