BEGIN:VCALENDAR
VERSION:2.0
PRODID:-//Plone.org//NONSGML plone.app.event//EN
X-WR-TIMEZONE:America/Sao_Paulo
BEGIN:VEVENT
SUMMARY:Campus Aberto: Acolhida aos candidatos e candidatas II Parte em [ 
 Arena da praça de serviços]
DTSTART;TZID=America/Sao_Paulo;VALUE=DATE-TIME:20240304T070000
DTEND;TZID=America/Sao_Paulo;VALUE=DATE-TIME:20240306T190000
DTSTAMP;VALUE=DATE-TIME:20260420T044750Z
UID:bbf19a228fa34d3aae0acc3fcbca7379@150.164.76.86:8080
CREATED;VALUE=DATE-TIME:20231218T164903Z
DESCRIPTION:<p>Evento solicitado pelo Vice-reitor\, com o objetivo de escl
 arecer dúvidas institucionais aos candidatos ao SISU-UFMG2024. "Semana Ze
 ro". <br />Programação prevê rodas de conversas com as temáticas - Pro
 cedimento de Validação\; Procedimento de Heteroidentificação e Anális
 e Socioeconômica</p>
LAST-MODIFIED;VALUE=DATE-TIME:20231218T170126Z
URL:http://150.164.76.86:8080/cac/agenda/6458508994054414797
END:VEVENT
BEGIN:VTIMEZONE
TZID:America/Sao_Paulo
X-LIC-LOCATION:America/Sao_Paulo
BEGIN:STANDARD
DTSTART;VALUE=DATE-TIME:20240217T230000
TZNAME:BRT
TZOFFSETFROM:-0200
TZOFFSETTO:-0300
END:STANDARD
END:VTIMEZONE
END:VCALENDAR
