BEGIN:VCALENDAR
VERSION:2.0
PRODID:-//Plone.org//NONSGML plone.app.event//EN
X-WR-TIMEZONE:America/Sao_Paulo
BEGIN:VEVENT
SUMMARY:XV Simpósio SBMM de Ciências da Vida em [ Auditório B101/102 do
  CAD 3 Auditório B106 do CAD3 Auditório B107 do CAD3]
DTSTART;TZID=America/Sao_Paulo;VALUE=DATE-TIME:20241029T060000
DTEND;TZID=America/Sao_Paulo;VALUE=DATE-TIME:20241101T220000
DTSTAMP;VALUE=DATE-TIME:20260419T163729Z
UID:f8bfbfea38074737b8272162305bd0cd@150.164.76.86:8080
CREATED;VALUE=DATE-TIME:20231123T144258Z
DESCRIPTION:<p>XV Simpósio da Sociedade Brasileira de Microscopia e Micro
 análise direcionada para as áreas de Ciências da Vida. O evento pretend
 e reunir profissionais\, técnicos e estudantes do Brasil e outros países
  para apresentar avanços na área. Serão necessários: estrutura de cozi
 nha para trabalho do buffet que atuará nos coffee-breaks\, estruturas par
 a exposição de pôsteres\, estandes\, pessoal para limpeza\, apoio audio
 -visual (pessoal de apoio\, projetores\, caixas de som\, microfone\, inclu
 indo reserva)\, internet de boa qualidade\, vigilante para orientação no
  entorno do evento\, portaria.</p>
LAST-MODIFIED;VALUE=DATE-TIME:20240819T143552Z
URL:http://150.164.76.86:8080/cac/agenda/6451227797059385746
END:VEVENT
BEGIN:VTIMEZONE
TZID:America/Sao_Paulo
X-LIC-LOCATION:America/Sao_Paulo
BEGIN:DAYLIGHT
DTSTART;VALUE=DATE-TIME:20241020T010000
TZNAME:BRST
TZOFFSETFROM:-0300
TZOFFSETTO:-0200
END:DAYLIGHT
END:VTIMEZONE
END:VCALENDAR
