BEGIN:VCALENDAR
VERSION:2.0
PRODID:-//Plone.org//NONSGML plone.app.event//EN
X-WR-TIMEZONE:America/Sao_Paulo
BEGIN:VEVENT
SUMMARY:Pré-reserva 11º ENFSUDESTE em [ Auditorio Nobre do CAD 1]
DTSTART;TZID=America/Sao_Paulo;VALUE=DATE-TIME:20240812T080000
DTEND;TZID=America/Sao_Paulo;VALUE=DATE-TIME:20240814T210000
DTSTAMP;VALUE=DATE-TIME:20260419T222740Z
UID:d63c9890600b408f955693462f0e617d@150.164.76.86:8080
CREATED;VALUE=DATE-TIME:20240206T122219Z
DESCRIPTION:<p>Pré-reserva CAC</p>
LAST-MODIFIED;VALUE=DATE-TIME:20240802T152457Z
URL:http://150.164.76.86:8080/cac/agenda/6450491925246433724
END:VEVENT
BEGIN:VTIMEZONE
TZID:America/Sao_Paulo
X-LIC-LOCATION:America/Sao_Paulo
BEGIN:STANDARD
DTSTART;VALUE=DATE-TIME:20240217T230000
TZNAME:BRT
TZOFFSETFROM:-0200
TZOFFSETTO:-0300
END:STANDARD
END:VTIMEZONE
END:VCALENDAR
