BEGIN:VCALENDAR
VERSION:2.0
PRODID:-//Plone.org//NONSGML plone.app.event//EN
X-WR-TIMEZONE:America/Sao_Paulo
BEGIN:VEVENT
SUMMARY:Reunião de Equipe da Reitora em [ Outros espacos]
DTSTART;TZID=America/Sao_Paulo;VALUE=DATE-TIME:20241108T093000
DTEND;TZID=America/Sao_Paulo;VALUE=DATE-TIME:20241108T123000
DTSTAMP;VALUE=DATE-TIME:20260419T175500Z
UID:c7b6056783f44fba98af984869780b20@150.164.76.86:8080
CREATED;VALUE=DATE-TIME:20241101T143256Z
DESCRIPTION:<p>Reunião de Equipe da Reitora</p>
LAST-MODIFIED;VALUE=DATE-TIME:20241101T143312Z
URL:http://150.164.76.86:8080/cac/agenda/6431312829347970381
END:VEVENT
BEGIN:VTIMEZONE
TZID:America/Sao_Paulo
X-LIC-LOCATION:America/Sao_Paulo
BEGIN:DAYLIGHT
DTSTART;VALUE=DATE-TIME:20241020T010000
TZNAME:BRST
TZOFFSETFROM:-0300
TZOFFSETTO:-0200
END:DAYLIGHT
END:VTIMEZONE
END:VCALENDAR
