BEGIN:VCALENDAR
VERSION:2.0
PRODID:-//Plone.org//NONSGML plone.app.event//EN
X-WR-TIMEZONE:America/Sao_Paulo
BEGIN:VEVENT
SUMMARY:5ª Jornada de Direitos Humanos em [ Auditorio A102 do Cad 2 Audit
 orio A104 do Cad 2]
DTSTART;TZID=America/Sao_Paulo;VALUE=DATE-TIME:20241206T060000
DTEND;TZID=America/Sao_Paulo;VALUE=DATE-TIME:20241206T220000
DTSTAMP;VALUE=DATE-TIME:20260419T163318Z
UID:9579d616734840caaf74bb627283b967@150.164.76.86:8080
CREATED;VALUE=DATE-TIME:20231106T134615Z
DESCRIPTION:<p>5ª Jornada de Direitos Humanos</p>
LAST-MODIFIED;VALUE=DATE-TIME:20240104T115707Z
URL:http://150.164.76.86:8080/cac/agenda/642659011238380770
END:VEVENT
BEGIN:VTIMEZONE
TZID:America/Sao_Paulo
X-LIC-LOCATION:America/Sao_Paulo
BEGIN:DAYLIGHT
DTSTART;VALUE=DATE-TIME:20241020T010000
TZNAME:BRST
TZOFFSETFROM:-0300
TZOFFSETTO:-0200
END:DAYLIGHT
END:VTIMEZONE
END:VCALENDAR
