BEGIN:VCALENDAR
VERSION:2.0
PRODID:-//Plone.org//NONSGML plone.app.event//EN
X-WR-TIMEZONE:America/Sao_Paulo
BEGIN:VEVENT
SUMMARY:PicadeRRÓ em [ Arena da praça de serviços]
DTSTART;TZID=America/Sao_Paulo;VALUE=DATE-TIME:20240612T173000
DTEND;TZID=America/Sao_Paulo;VALUE=DATE-TIME:20240612T190000
DTSTAMP;VALUE=DATE-TIME:20260420T025838Z
UID:9b932e18881b480d8865d67b8d98acf0@150.164.76.86:8080
CREATED;VALUE=DATE-TIME:20240305T003020Z
DESCRIPTION:Evento de caráter social e cultural com o objetivo de dissemi
 nar a cultura do forró para toda a comunidade da UFMG. O evento utiliza d
 e recursos próprios incluindo caixa de som\, microfone e computador.
LAST-MODIFIED;VALUE=DATE-TIME:20240306T133106Z
URL:http://150.164.76.86:8080/cac/agenda/6413863895320421086
END:VEVENT
BEGIN:VTIMEZONE
TZID:America/Sao_Paulo
X-LIC-LOCATION:America/Sao_Paulo
BEGIN:STANDARD
DTSTART;VALUE=DATE-TIME:20240217T230000
TZNAME:BRT
TZOFFSETFROM:-0200
TZOFFSETTO:-0300
END:STANDARD
END:VTIMEZONE
END:VCALENDAR
