BEGIN:VCALENDAR
VERSION:2.0
PRODID:-//Plone.org//NONSGML plone.app.event//EN
X-WR-TIMEZONE:America/Sao_Paulo
BEGIN:VEVENT
SUMMARY:CAPACIDADE EXCEDIDA em [ Arena da praça de serviços]
DTSTART;TZID=America/Sao_Paulo;VALUE=DATE-TIME:20201016T000000
DTEND;TZID=America/Sao_Paulo;VALUE=DATE-TIME:20201020T230000
DTSTAMP;VALUE=DATE-TIME:20260424T171905Z
UID:d4a4b2b59efc4999a952ab4607c40540@150.164.76.86:8080
CREATED;VALUE=DATE-TIME:20200114T212504Z
DESCRIPTION:<p>A pedido da coordenadora da CAC Cássia Monteiro\, aprovado
  em reuniões dos dias 09 e 10/01/2020.<br />Atenciosamente<br />Coordenad
 oria de Assuntos Comunitários</p>
LAST-MODIFIED;VALUE=DATE-TIME:20200214T161003Z
URL:http://150.164.76.86:8080/cac/agenda/6413287721377712841
END:VEVENT
BEGIN:VTIMEZONE
TZID:America/Sao_Paulo
X-LIC-LOCATION:America/Sao_Paulo
BEGIN:STANDARD
DTSTART;VALUE=DATE-TIME:20200215T230000
TZNAME:BRT
TZOFFSETFROM:-0200
TZOFFSETTO:-0300
END:STANDARD
BEGIN:DAYLIGHT
DTSTART;VALUE=DATE-TIME:20201018T010000
TZNAME:BRST
TZOFFSETFROM:-0300
TZOFFSETTO:-0200
END:DAYLIGHT
END:VTIMEZONE
END:VCALENDAR
