BEGIN:VCALENDAR
VERSION:2.0
PRODID:-//Plone.org//NONSGML plone.app.event//EN
X-WR-TIMEZONE:America/Sao_Paulo
BEGIN:VEVENT
SUMMARY:Encontro de Orientação para estudantes que realizarão mobilidad
 e em 2025 em [ Auditorio A104 do Cad 2]
DTSTART;TZID=America/Sao_Paulo;VALUE=DATE-TIME:20241015T110000
DTEND;TZID=America/Sao_Paulo;VALUE=DATE-TIME:20241015T150000
DTSTAMP;VALUE=DATE-TIME:20260419T193323Z
UID:8d19b0399bcd4a25962136b02951607b@150.164.76.86:8080
CREATED;VALUE=DATE-TIME:20241004T181559Z
DESCRIPTION:Gostaríamos de\, gentilmente\, solicitar reserva do auditóri
 o para realização do encontro de orientações de alunos que irão reali
 zar a mobilidade em 2025\n\nGostaria de reserva-lo para o dia 15/10\, das 
 11h às 15h.\n\nO evento consiste em um "Encontro de Orientação" que a  
 equipe de mobilidade oferecerá aos alunos da UFMG que realizarão mobilid
 ade pelo âmbito do Edital Unificado tendo como objetivo explicar o proces
 so de intercâmbio\, documentação e retirada tirar dúvidas.\n\nO númer
 o de estudantes esperado é cerca de 150.\n\nPrecisaremos também dos segu
 intes equipamentos:\n01 microfone de mão c/ fio\n01 microfone de mesa\n01
  notebook com acesso à internet e conectado ao sistema multimídia. \n\nN
 a mesa estarão 4 pessoas.\n\nPor fim\, gostaríamos de verificar sobre a 
 possibilidade de gravação.
LAST-MODIFIED;VALUE=DATE-TIME:20241004T183310Z
URL:http://150.164.76.86:8080/cac/agenda/6411504786837037304
END:VEVENT
BEGIN:VTIMEZONE
TZID:America/Sao_Paulo
X-LIC-LOCATION:America/Sao_Paulo
BEGIN:STANDARD
DTSTART;VALUE=DATE-TIME:20240217T230000
TZNAME:BRT
TZOFFSETFROM:-0200
TZOFFSETTO:-0300
END:STANDARD
END:VTIMEZONE
END:VCALENDAR
