BEGIN:VCALENDAR
VERSION:2.0
PRODID:-//Plone.org//NONSGML plone.app.event//EN
X-WR-TIMEZONE:America/Sao_Paulo
BEGIN:VEVENT
SUMMARY:FERIADO DIA DO TRABALHO em [ Saguao da Reitoria Gramado da Reitori
 a Auditorio Nobre do CAD 1 Auditorio 1A do CAD 1 Auditorio 2A do CAD 1 Aud
 itorio A102 do Cad 2 Auditorio A104 do Cad 2 Auditório B101/102 do CAD 3 
 Auditório B106 do CAD3 Auditório B107 do CAD3 Auditório B301 do CAD 3 A
 uditório B302 do CAD 3 Auditório B306 do CAD3 Outros espacos]
DTSTART;TZID=America/Sao_Paulo;VALUE=DATE-TIME:20240501T060000
DTEND;TZID=America/Sao_Paulo;VALUE=DATE-TIME:20240501T220000
DTSTAMP;VALUE=DATE-TIME:20260420T014215Z
UID:557f2f0b639e4b36bc616548400bcbd5@150.164.76.86:8080
CREATED;VALUE=DATE-TIME:20231106T134825Z
DESCRIPTION:<p>FERIADO DIA DO TRABALHO</p>
LAST-MODIFIED;VALUE=DATE-TIME:20231106T134855Z
URL:http://150.164.76.86:8080/cac/agenda/6406307734224795318
END:VEVENT
BEGIN:VTIMEZONE
TZID:America/Sao_Paulo
X-LIC-LOCATION:America/Sao_Paulo
BEGIN:STANDARD
DTSTART;VALUE=DATE-TIME:20240217T230000
TZNAME:BRT
TZOFFSETFROM:-0200
TZOFFSETTO:-0300
END:STANDARD
END:VTIMEZONE
END:VCALENDAR
