BEGIN:VCALENDAR
VERSION:2.0
PRODID:-//Plone.org//NONSGML plone.app.event//EN
X-WR-TIMEZONE:America/Sao_Paulo
BEGIN:VEVENT
SUMMARY:Transmissão do sorteio de vagas da comunidade UFMG para EMEI Ala
 íde Lisboa em [ Outros espacos]
DTSTART;TZID=America/Sao_Paulo;VALUE=DATE-TIME:20241113T140000
DTEND;TZID=America/Sao_Paulo;VALUE=DATE-TIME:20241113T150000
DTSTAMP;VALUE=DATE-TIME:20260419T175757Z
UID:8b61ed5eab6042c6a1e15e25cef26506@150.164.76.86:8080
CREATED;VALUE=DATE-TIME:20241010T181326Z
DESCRIPTION:<p>Transmissão do sorteio de vagas da EMEI para a comunidade.
 </p>\n<p>Em tela\, Marcilene e Carlos Henrique.</p>\n<p>Previsão de dura
 ção da transmissão: 20 minutos</p>
LAST-MODIFIED;VALUE=DATE-TIME:20241010T181416Z
URL:http://150.164.76.86:8080/cac/agenda/6380169404034117309
END:VEVENT
BEGIN:VTIMEZONE
TZID:America/Sao_Paulo
X-LIC-LOCATION:America/Sao_Paulo
BEGIN:DAYLIGHT
DTSTART;VALUE=DATE-TIME:20241020T010000
TZNAME:BRST
TZOFFSETFROM:-0300
TZOFFSETTO:-0200
END:DAYLIGHT
END:VTIMEZONE
END:VCALENDAR
