BEGIN:VCALENDAR
VERSION:2.0
PRODID:-//Plone.org//NONSGML plone.app.event//EN
X-WR-TIMEZONE:America/Sao_Paulo
BEGIN:VEVENT
SUMMARY:Integração Docente - NAI-UFMG - Acessibilidade em [ Outros espac
 os]
DTSTART;TZID=America/Sao_Paulo;VALUE=DATE-TIME:20220928T140000
DTEND;TZID=America/Sao_Paulo;VALUE=DATE-TIME:20220928T160000
DTSTAMP;VALUE=DATE-TIME:20260422T012356Z
UID:f5395d014d74469fa4f76ba81d0baa33@150.164.76.86:8080
CREATED;VALUE=DATE-TIME:20220831T192723Z
DESCRIPTION:O integração docente contará com a participação da Reitor
 a e do Vice-Reitor.\n\nEssa edição especial\, por ser Setembro o Mês da
  Acessibilidade\, irá apresentar as ações do NAI\, Núcleo de Acessibil
 idade e Inclusão da UFMG.\n\nMais informações em breve.
LAST-MODIFIED;VALUE=DATE-TIME:20220908T170800Z
URL:http://150.164.76.86:8080/cac/agenda/6378499763919890175
END:VEVENT
BEGIN:VTIMEZONE
TZID:America/Sao_Paulo
X-LIC-LOCATION:America/Sao_Paulo
BEGIN:STANDARD
DTSTART;VALUE=DATE-TIME:20220219T230000
TZNAME:BRT
TZOFFSETFROM:-0200
TZOFFSETTO:-0300
END:STANDARD
END:VTIMEZONE
END:VCALENDAR
