BEGIN:VCALENDAR
VERSION:2.0
PRODID:-//Plone.org//NONSGML plone.app.event//EN
X-WR-TIMEZONE:America/Sao_Paulo
BEGIN:VEVENT
SUMMARY:Seminário Indígena em [ Auditorio da Reitoria]
DTSTART;TZID=America/Sao_Paulo;VALUE=DATE-TIME:20230522T130000
DTEND;TZID=America/Sao_Paulo;VALUE=DATE-TIME:20230522T180000
DTSTAMP;VALUE=DATE-TIME:20260421T133832Z
UID:eb5e4c0f71f847b8a928d3f8fd234566@150.164.76.86:8080
CREATED;VALUE=DATE-TIME:20230419T123055Z
DESCRIPTION:<p>Evento de abertura do Seminário Indígena UFMG 2023. O eve
 nto contará com a participação de coletividades indígenas debatendo po
 liticas de acesso e permanência estudantil na UFMG</p>
LAST-MODIFIED;VALUE=DATE-TIME:20230420T155211Z
URL:http://150.164.76.86:8080/cac/agenda/6356756826648760926
END:VEVENT
BEGIN:VTIMEZONE
TZID:America/Sao_Paulo
X-LIC-LOCATION:America/Sao_Paulo
BEGIN:STANDARD
DTSTART;VALUE=DATE-TIME:20230225T230000
TZNAME:BRT
TZOFFSETFROM:-0200
TZOFFSETTO:-0300
END:STANDARD
END:VTIMEZONE
END:VCALENDAR
