BEGIN:VCALENDAR
VERSION:2.0
PRODID:-//Plone.org//NONSGML plone.app.event//EN
X-WR-TIMEZONE:America/Sao_Paulo
BEGIN:VEVENT
SUMMARY:5° Simpósio Científico ICOMOS Brasil e 2° Simpósio Cientifico
  ICOMOS/LAC em [ Auditório B101/102 do CAD 3 Auditório B106 do CAD3]
DTSTART;TZID=America/Sao_Paulo;VALUE=DATE-TIME:20221205T070000
DTEND;TZID=America/Sao_Paulo;VALUE=DATE-TIME:20221209T200000
DTSTAMP;VALUE=DATE-TIME:20260421T192212Z
UID:78ea5e2f0c1b407fb25482432829c677@150.164.76.86:8080
CREATED;VALUE=DATE-TIME:20220922T181909Z
DESCRIPTION:<p>O 5º Simpósio Científico do ICOMOS-BRASIL\, que também 
 será a 2ª edição do Simpósio do ICOMOS/LAC (América Latina e Caribe)
 \, apresentará um panorama das discussões sobre patrimônio em nosso con
 tinente\, além de discutir as especificidades tema “50 anos da Convenç
 ão Patrimônio Mundial: conquistas e desafios nas Américas”. Este even
 to será híbrido (virtual e presencial simultaneamente) e co-organizado p
 elos Comitês Nacionais de Ícones do Brasil e do Peru.</p>
LAST-MODIFIED;VALUE=DATE-TIME:20230111T201116Z
URL:http://150.164.76.86:8080/cac/agenda/634309600355437580
END:VEVENT
BEGIN:VTIMEZONE
TZID:America/Sao_Paulo
X-LIC-LOCATION:America/Sao_Paulo
BEGIN:DAYLIGHT
DTSTART;VALUE=DATE-TIME:20221016T010000
TZNAME:BRST
TZOFFSETFROM:-0300
TZOFFSETTO:-0200
END:DAYLIGHT
END:VTIMEZONE
END:VCALENDAR
