BEGIN:VCALENDAR
VERSION:2.0
PRODID:-//Plone.org//NONSGML plone.app.event//EN
X-WR-TIMEZONE:America/Sao_Paulo
BEGIN:VEVENT
SUMMARY:Encontro com servidores recém-contratados da UFMG em [ Auditório
  B107 do CAD3]
DTSTART;TZID=America/Sao_Paulo;VALUE=DATE-TIME:20241126T140000
DTEND;TZID=America/Sao_Paulo;VALUE=DATE-TIME:20241126T170000
DTSTAMP;VALUE=DATE-TIME:20260419T193355Z
UID:5e7762bb99a64005b938444cb3cf0659@150.164.76.86:8080
CREATED;VALUE=DATE-TIME:20241112T212712Z
DESCRIPTION:<p>Encontro com servidores recém-contratados da UFMG para apr
 esentação da Extensão Universitária e legislação pertinente.</p>
LAST-MODIFIED;VALUE=DATE-TIME:20241125T192050Z
URL:http://150.164.76.86:8080/cac/agenda/6333308113693694767
END:VEVENT
BEGIN:VTIMEZONE
TZID:America/Sao_Paulo
X-LIC-LOCATION:America/Sao_Paulo
BEGIN:DAYLIGHT
DTSTART;VALUE=DATE-TIME:20241020T010000
TZNAME:BRST
TZOFFSETFROM:-0300
TZOFFSETTO:-0200
END:DAYLIGHT
END:VTIMEZONE
END:VCALENDAR
