BEGIN:VCALENDAR
VERSION:2.0
PRODID:-//Plone.org//NONSGML plone.app.event//EN
X-WR-TIMEZONE:America/Sao_Paulo
BEGIN:VEVENT
SUMMARY:Seminário NAPG em [ Auditorio Nobre do CAD 1]
DTSTART;TZID=America/Sao_Paulo;VALUE=DATE-TIME:20240415T140000
DTEND;TZID=America/Sao_Paulo;VALUE=DATE-TIME:20240415T180000
DTSTAMP;VALUE=DATE-TIME:20260420T044642Z
UID:cf0670166f4c485d96824bb44266d8b8@150.164.76.86:8080
CREATED;VALUE=DATE-TIME:20240315T130942Z
DESCRIPTION:<p>1) 2(dois) microfones 2) 1(um) técnico</p>
LAST-MODIFIED;VALUE=DATE-TIME:20240410T192726Z
URL:http://150.164.76.86:8080/cac/agenda/6299770732589596370
END:VEVENT
BEGIN:VTIMEZONE
TZID:America/Sao_Paulo
X-LIC-LOCATION:America/Sao_Paulo
BEGIN:STANDARD
DTSTART;VALUE=DATE-TIME:20240217T230000
TZNAME:BRT
TZOFFSETFROM:-0200
TZOFFSETTO:-0300
END:STANDARD
END:VTIMEZONE
END:VCALENDAR
