BEGIN:VCALENDAR
VERSION:2.0
PRODID:-//Plone.org//NONSGML plone.app.event//EN
X-WR-TIMEZONE:America/Sao_Paulo
BEGIN:VEVENT
SUMMARY:Feira EBA em [ Entorno da Praca de Servicos]
DTSTART;TZID=America/Sao_Paulo;VALUE=DATE-TIME:20240417T060000
DTEND;TZID=America/Sao_Paulo;VALUE=DATE-TIME:20240419T200000
DTSTAMP;VALUE=DATE-TIME:20260420T044358Z
UID:79a08d8c454045ab904924de2a22c32e@150.164.76.86:8080
CREATED;VALUE=DATE-TIME:20240109T040131Z
DESCRIPTION:O evento será montado no dia 17 e realizado nos dias 18 e 19.
  Não serão necessários equipamentos extras.
LAST-MODIFIED;VALUE=DATE-TIME:20240111T134234Z
URL:http://150.164.76.86:8080/cac/agenda/6282244975974744219
END:VEVENT
BEGIN:VTIMEZONE
TZID:America/Sao_Paulo
X-LIC-LOCATION:America/Sao_Paulo
BEGIN:STANDARD
DTSTART;VALUE=DATE-TIME:20240217T230000
TZNAME:BRT
TZOFFSETFROM:-0200
TZOFFSETTO:-0300
END:STANDARD
END:VTIMEZONE
END:VCALENDAR
