BEGIN:VCALENDAR
VERSION:2.0
PRODID:-//Plone.org//NONSGML plone.app.event//EN
X-WR-TIMEZONE:America/Sao_Paulo
BEGIN:VEVENT
SUMMARY:Escola Verão Cátedra Direitos Humanos da AUGM em [ Auditorio A10
 4 do Cad 2 Auditorio Nobre do CAD 1]
DTSTART;TZID=America/Sao_Paulo;VALUE=DATE-TIME:20230213T080000
DTEND;TZID=America/Sao_Paulo;VALUE=DATE-TIME:20230217T180000
DTSTAMP;VALUE=DATE-TIME:20260421T181058Z
UID:8e6a5116e1084e0eb0da593c0d1ca847@150.164.76.86:8080
CREATED;VALUE=DATE-TIME:20221213T152328Z
DESCRIPTION:<p>Serviço de audiovisual completo Para o palco: microfones\,
  mesas\,cadeiras\,toalha de mesa usada quando há a presença da reitora\,
  púlpito para fala da reitora Para o público: microfones (normalmente do
 is) para a fala do público</p>
LAST-MODIFIED;VALUE=DATE-TIME:20230207T132650Z
URL:http://150.164.76.86:8080/cac/agenda/6261863116400207153
END:VEVENT
BEGIN:VTIMEZONE
TZID:America/Sao_Paulo
X-LIC-LOCATION:America/Sao_Paulo
BEGIN:DAYLIGHT
DTSTART;VALUE=DATE-TIME:20221016T010000
TZNAME:BRST
TZOFFSETFROM:-0300
TZOFFSETTO:-0200
END:DAYLIGHT
END:VTIMEZONE
END:VCALENDAR
