BEGIN:VCALENDAR
VERSION:2.0
PRODID:-//Plone.org//NONSGML plone.app.event//EN
X-WR-TIMEZONE:America/Sao_Paulo
BEGIN:VEVENT
SUMMARY:95 anos - Domingo no Campus em [ Saguao da Reitoria Gramado da Rei
 toria Em torno da Praca de Servicos Arena da praça de serviços]
DTSTART;TZID=America/Sao_Paulo;VALUE=DATE-TIME:20220904T080000
DTEND;TZID=America/Sao_Paulo;VALUE=DATE-TIME:20220904T090000
DTSTAMP;VALUE=DATE-TIME:20260421T235250Z
UID:e7b8a65ce0f743de9a75ee8b2759a0e3@150.164.76.86:8080
CREATED;VALUE=DATE-TIME:20220505T174115Z
DESCRIPTION:<p>Domingo no Campus</p>
LAST-MODIFIED;VALUE=DATE-TIME:20220517T183411Z
URL:http://150.164.76.86:8080/cac/agenda/6260529522592980798
END:VEVENT
BEGIN:VTIMEZONE
TZID:America/Sao_Paulo
X-LIC-LOCATION:America/Sao_Paulo
BEGIN:STANDARD
DTSTART;VALUE=DATE-TIME:20220219T230000
TZNAME:BRT
TZOFFSETFROM:-0200
TZOFFSETTO:-0300
END:STANDARD
END:VTIMEZONE
END:VCALENDAR
