BEGIN:VCALENDAR
VERSION:2.0
PRODID:-//Plone.org//NONSGML plone.app.event//EN
X-WR-TIMEZONE:America/Sao_Paulo
BEGIN:VEVENT
SUMMARY:24ª Edição UFMG Jovem em [ Auditorio da Reitoria Saguao da Reit
 oria Gramado da Reitoria Arena da praça de serviços Entorno da Praca de 
 Servicos Auditorio Nobre do CAD 1 Outros espacos Auditório B106 do CAD3 A
 uditório B107 do CAD3]
DTSTART;TZID=America/Sao_Paulo;VALUE=DATE-TIME:20230912T070000
DTEND;TZID=America/Sao_Paulo;VALUE=DATE-TIME:20230916T210000
DTSTAMP;VALUE=DATE-TIME:20260421T080544Z
UID:da9e13bad272488d99e46ef4dd819618@150.164.76.86:8080
CREATED;VALUE=DATE-TIME:20221110T141442Z
DESCRIPTION:<p><span><span>Montagem e desmontagem dos estandes da feira se
 rão necessários pelo menos 2 dias antes do evento\, dias 12 e 13. Desmon
 tagem 16/9<br /></span></span></p>\n<p><span><span><span>Auditório nobre 
 do CAD 1 para as cerimônias de abertura e encerramento (com transmissão)
 <br /></span></span></span></p>\n<p><span><span><span><span>Saguão e Hall
  CAD1. Destinados a apresentação de trabalhos\, secretaria do evento e a
 colhimento dos visitantes.</span></span></span></span></p>
LAST-MODIFIED;VALUE=DATE-TIME:20230522T153349Z
URL:http://150.164.76.86:8080/cac/agenda/6243586243430140424
END:VEVENT
BEGIN:VTIMEZONE
TZID:America/Sao_Paulo
X-LIC-LOCATION:America/Sao_Paulo
BEGIN:STANDARD
DTSTART;VALUE=DATE-TIME:20230225T230000
TZNAME:BRT
TZOFFSETFROM:-0200
TZOFFSETTO:-0300
END:STANDARD
END:VTIMEZONE
END:VCALENDAR
