BEGIN:VCALENDAR
VERSION:2.0
PRODID:-//Plone.org//NONSGML plone.app.event//EN
X-WR-TIMEZONE:America/Sao_Paulo
BEGIN:VEVENT
SUMMARY:Congresso Luso-Brasileiro em Engenharia e Arquitetura em [ Auditor
 io A104 do Cad 2 Outros espacos]
DTSTART;TZID=America/Sao_Paulo;VALUE=DATE-TIME:20230713T080000
DTEND;TZID=America/Sao_Paulo;VALUE=DATE-TIME:20230714T190000
DTSTAMP;VALUE=DATE-TIME:20260421T110337Z
UID:8d8b9375910c44d08c6312e7e845a492@150.164.76.86:8080
CREATED;VALUE=DATE-TIME:20230227T191128Z
DESCRIPTION:<p>O Congresso Luso-Brasileiro em Arquitetura + Engenharia (CL
 B_A+E_2023) (https://www.clbae2023.org/ ) é o primeiro de uma série de c
 ongressos na interface entre a arquitetura e a engenharia que serão reali
 zados no futuro. O objetivo principal destes congressos é a integração 
 das áreas da engenharia com a arquitetura\, para o desenvolvimento da con
 strução. As diferentes áreas da construção\, na maior parte das vezes
 \, caminham em separado e as soluções que são desenvolvidas são boas p
 ara um determinado aspecto especifico\, mas não tão boas ou mesmo ruins 
 para outros aspectos. Estes congressos pretendem ser fóruns de discussão
 \, onde especialistas de diferentes áreas da arquitetura e engenharia dis
 cutirão os avanços nas suas áreas e apresentarão novas soluções inte
 gradoras aplicadas ao setor da construção. Este Congresso é uma organiz
 ação conjunta entre a Universidade Federal de Minas Gerais (UFMG)\, Bras
 il\, através dos seus programas de pós-graduação em Engenharia de Estr
 uturas (PROPEEs) e de Ambiente Construído e Património Sustentável (PPG
 -ACPS)\, a Universidade de Coimbra\, em Portugal e o International Council
  for Research and Innovation in Building and Construction (CIB). Como equi
 pamentos precisamos para além dos espaços solicitados\, do sistema de pr
 ojeção de vídeo e som dos mesmos.</p>
LAST-MODIFIED;VALUE=DATE-TIME:20230704T160548Z
URL:http://150.164.76.86:8080/cac/agenda/6223636843750812775
END:VEVENT
BEGIN:VTIMEZONE
TZID:America/Sao_Paulo
X-LIC-LOCATION:America/Sao_Paulo
BEGIN:STANDARD
DTSTART;VALUE=DATE-TIME:20230225T230000
TZNAME:BRT
TZOFFSETFROM:-0200
TZOFFSETTO:-0300
END:STANDARD
END:VTIMEZONE
END:VCALENDAR
