BEGIN:VCALENDAR
VERSION:2.0
PRODID:-//Plone.org//NONSGML plone.app.event//EN
X-WR-TIMEZONE:America/Sao_Paulo
BEGIN:VEVENT
SUMMARY:Reunião Sala de Sessões em [ Outros espacos]
DTSTART;TZID=America/Sao_Paulo;VALUE=DATE-TIME:20220714T140000
DTEND;TZID=America/Sao_Paulo;VALUE=DATE-TIME:20220714T180000
DTSTAMP;VALUE=DATE-TIME:20260422T044516Z
UID:e92ee6a0b7154705b2f5c26065e83ad8@150.164.76.86:8080
CREATED;VALUE=DATE-TIME:20220711T140140Z
DESCRIPTION:<p>Reunião Sala de Sessões</p>
LAST-MODIFIED;VALUE=DATE-TIME:20220711T140153Z
URL:http://150.164.76.86:8080/cac/agenda/6210402863745478723
END:VEVENT
BEGIN:VTIMEZONE
TZID:America/Sao_Paulo
X-LIC-LOCATION:America/Sao_Paulo
BEGIN:STANDARD
DTSTART;VALUE=DATE-TIME:20220219T230000
TZNAME:BRT
TZOFFSETFROM:-0200
TZOFFSETTO:-0300
END:STANDARD
END:VTIMEZONE
END:VCALENDAR
