BEGIN:VCALENDAR
VERSION:2.0
PRODID:-//Plone.org//NONSGML plone.app.event//EN
X-WR-TIMEZONE:America/Sao_Paulo
BEGIN:VEVENT
SUMMARY:Seminário  -  Projetos de Desenvolvimento Institucional em [ Outr
 os espacos]
DTSTART;TZID=America/Sao_Paulo;VALUE=DATE-TIME:20220530T140000
DTEND;TZID=America/Sao_Paulo;VALUE=DATE-TIME:20220530T170000
DTSTAMP;VALUE=DATE-TIME:20260422T081606Z
UID:1b7fd3f79fb44294aa693ce97aae0434@150.164.76.86:8080
CREATED;VALUE=DATE-TIME:20220505T133557Z
DESCRIPTION:Projetor para PowerPoint\, dois microfones para a mesa e 2 sem
  fio para a manifestação dos presentes na plateia.\n\nProgramação\n14h
  Apresentação da Procuradoria Federal na UFMG\n15h Apresentação da PRO
 PLAN\n16h Discussão\n17h Encerramento
LAST-MODIFIED;VALUE=DATE-TIME:20220505T155557Z
URL:http://150.164.76.86:8080/cac/agenda/6208257800061111627
END:VEVENT
BEGIN:VTIMEZONE
TZID:America/Sao_Paulo
X-LIC-LOCATION:America/Sao_Paulo
BEGIN:STANDARD
DTSTART;VALUE=DATE-TIME:20220219T230000
TZNAME:BRT
TZOFFSETFROM:-0200
TZOFFSETTO:-0300
END:STANDARD
END:VTIMEZONE
END:VCALENDAR
