BEGIN:VCALENDAR
VERSION:2.0
PRODID:-//Plone.org//NONSGML plone.app.event//EN
X-WR-TIMEZONE:America/Sao_Paulo
BEGIN:VEVENT
SUMMARY:Feriado - Tiradentes em [ Auditorio da Reitoria Saguao da Reitoria
  Gramado da Reitoria Arena da praça de serviços Entorno da Praca de Serv
 icos Auditorio Nobre do CAD 1 Auditorio 1A do CAD 1 Auditorio 2A do CAD 1 
 Auditorio A102 do Cad 2 Auditorio A104 do Cad 2 Auditório B101/102 do CAD
  3 Auditório B301 do CAD 3 Auditório B302 do CAD 3 Auditório B106 do CA
 D3 Auditório B107 do CAD3 Outros espacos]
DTSTART;TZID=America/Sao_Paulo;VALUE=DATE-TIME:20230421T000000
DTEND;TZID=America/Sao_Paulo;VALUE=DATE-TIME:20230421T230000
DTSTAMP;VALUE=DATE-TIME:20260421T152710Z
UID:cd638d1f309f4f299adc6de8b864f7bf@150.164.76.86:8080
CREATED;VALUE=DATE-TIME:20221110T125627Z
DESCRIPTION:<p>Feriado - Tiradentes</p>
LAST-MODIFIED;VALUE=DATE-TIME:20230111T201117Z
URL:http://150.164.76.86:8080/cac/agenda/6195889866326980673
END:VEVENT
BEGIN:VTIMEZONE
TZID:America/Sao_Paulo
X-LIC-LOCATION:America/Sao_Paulo
BEGIN:STANDARD
DTSTART;VALUE=DATE-TIME:20230225T230000
TZNAME:BRT
TZOFFSETFROM:-0200
TZOFFSETTO:-0300
END:STANDARD
END:VTIMEZONE
END:VCALENDAR
