BEGIN:VCALENDAR
VERSION:2.0
PRODID:-//Plone.org//NONSGML plone.app.event//EN
X-WR-TIMEZONE:America/Sao_Paulo
BEGIN:VEVENT
SUMMARY:43º Mercado das Pulga em [ Entorno da Praca de Servicos]
DTSTART;TZID=America/Sao_Paulo;VALUE=DATE-TIME:20240603T090000
DTEND;TZID=America/Sao_Paulo;VALUE=DATE-TIME:20240607T170000
DTSTAMP;VALUE=DATE-TIME:20260419T235827Z
UID:ba7ab56b262248559506a85e4e9bae8e@150.164.76.86:8080
CREATED;VALUE=DATE-TIME:20230818T180750Z
DESCRIPTION:90 apineis
LAST-MODIFIED;VALUE=DATE-TIME:20240522T174328Z
URL:http://150.164.76.86:8080/cac/agenda/6187297403937349332
END:VEVENT
BEGIN:VTIMEZONE
TZID:America/Sao_Paulo
X-LIC-LOCATION:America/Sao_Paulo
BEGIN:STANDARD
DTSTART;VALUE=DATE-TIME:20240217T230000
TZNAME:BRT
TZOFFSETFROM:-0200
TZOFFSETTO:-0300
END:STANDARD
END:VTIMEZONE
END:VCALENDAR
