BEGIN:VCALENDAR
VERSION:2.0
PRODID:-//Plone.org//NONSGML plone.app.event//EN
X-WR-TIMEZONE:America/Sao_Paulo
BEGIN:VEVENT
SUMMARY:Apti 2024 conference em [ Auditório B106 do CAD3 Auditório B107 
 do CAD3 Outros espacos Auditório B101/102 do CAD 3]
DTSTART;TZID=America/Sao_Paulo;VALUE=DATE-TIME:20240930T081900
DTEND;TZID=America/Sao_Paulo;VALUE=DATE-TIME:20241004T211900
DTSTAMP;VALUE=DATE-TIME:20260419T175526Z
UID:6350b7a91572400d801060d1f5a68dff@150.164.76.86:8080
CREATED;VALUE=DATE-TIME:20230516T233717Z
DESCRIPTION:<p>Evento de Arquitetura Internacional</p>
LAST-MODIFIED;VALUE=DATE-TIME:20240919T150500Z
URL:http://150.164.76.86:8080/cac/agenda/6184579274561582283
END:VEVENT
BEGIN:VTIMEZONE
TZID:America/Sao_Paulo
X-LIC-LOCATION:America/Sao_Paulo
BEGIN:STANDARD
DTSTART;VALUE=DATE-TIME:20240217T230000
TZNAME:BRT
TZOFFSETFROM:-0200
TZOFFSETTO:-0300
END:STANDARD
END:VTIMEZONE
END:VCALENDAR
