BEGIN:VCALENDAR
VERSION:2.0
PRODID:-//Plone.org//NONSGML plone.app.event//EN
X-WR-TIMEZONE:America/Sao_Paulo
BEGIN:VEVENT
SUMMARY:Posse da nova diretoria da Escola de Belas Artes - EBA em [ Outros
  espacos]
DTSTART;TZID=America/Sao_Paulo;VALUE=DATE-TIME:20250416T180000
DTEND;TZID=America/Sao_Paulo;VALUE=DATE-TIME:20250416T220000
DTSTAMP;VALUE=DATE-TIME:20260419T104053Z
UID:6c04f2e14ece4cbb9e08c604fc4dba66@150.164.76.86:8080
CREATED;VALUE=DATE-TIME:20250317T133049Z
DESCRIPTION:<p>Apoio técnico e kit cerimonial</p>
LAST-MODIFIED;VALUE=DATE-TIME:20250317T133128Z
URL:http://150.164.76.86:8080/cac/agenda/6182272943638402385
END:VEVENT
BEGIN:VTIMEZONE
TZID:America/Sao_Paulo
X-LIC-LOCATION:America/Sao_Paulo
BEGIN:STANDARD
DTSTART;VALUE=DATE-TIME:20250215T230000
TZNAME:BRT
TZOFFSETFROM:-0200
TZOFFSETTO:-0300
END:STANDARD
END:VTIMEZONE
END:VCALENDAR
