BEGIN:VCALENDAR
VERSION:2.0
PRODID:-//Plone.org//NONSGML plone.app.event//EN
X-WR-TIMEZONE:America/Sao_Paulo
BEGIN:VEVENT
SUMMARY:III  ToxiLatin - Latin American Congress of Clinical andLaboratori
 al Toxicology em [ Auditorio Nobre do CAD 1 Auditório B302 do CAD 3 Audit
 ório B101/102 do CAD 3 Auditório B301 do CAD 3]
DTSTART;TZID=America/Sao_Paulo;VALUE=DATE-TIME:20201006T180000
DTEND;TZID=America/Sao_Paulo;VALUE=DATE-TIME:20201009T200000
DTSTAMP;VALUE=DATE-TIME:20260424T171905Z
UID:d5acd5ddb70d4b11ace61579fc8046f8@150.164.76.86:8080
CREATED;VALUE=DATE-TIME:20200204T191642Z
DESCRIPTION:<p>O III Toxilatin terá com tema central "Os desafios da Toxi
 cologia frente aos desastres ambientais" Os equipamentos utilizados serão
  relacionados posteriomente junto a equipe de apoio do CAC\, assim como os
  outros serviços que são necessários\, como manutenção da limpeza do 
 espaço. A programação está em construção e assim que disponível ser
 á enviada doa CAC.</p>
LAST-MODIFIED;VALUE=DATE-TIME:20230111T201047Z
URL:http://150.164.76.86:8080/cac/agenda/6170797245533446297
END:VEVENT
BEGIN:VTIMEZONE
TZID:America/Sao_Paulo
X-LIC-LOCATION:America/Sao_Paulo
BEGIN:STANDARD
DTSTART;VALUE=DATE-TIME:20200215T230000
TZNAME:BRT
TZOFFSETFROM:-0200
TZOFFSETTO:-0300
END:STANDARD
END:VTIMEZONE
END:VCALENDAR
