BEGIN:VCALENDAR
VERSION:2.0
PRODID:-//Plone.org//NONSGML plone.app.event//EN
X-WR-TIMEZONE:America/Sao_Paulo
BEGIN:VEVENT
SUMMARY:Manutenção do Auditório da Reitoria em [ Outros espacos]
DTSTART;TZID=America/Sao_Paulo;VALUE=DATE-TIME:20220711T070000
DTEND;TZID=America/Sao_Paulo;VALUE=DATE-TIME:20220812T190000
DTSTAMP;VALUE=DATE-TIME:20260422T012715Z
UID:33b029b8b91b47659103466122324dcf@150.164.76.86:8080
CREATED;VALUE=DATE-TIME:20220427T133125Z
DESCRIPTION:<p>Manutenção do piso do auditório da Reitoria.</p>
LAST-MODIFIED;VALUE=DATE-TIME:20220726T134139Z
URL:http://150.164.76.86:8080/cac/agenda/6169467434959559279
END:VEVENT
BEGIN:VTIMEZONE
TZID:America/Sao_Paulo
X-LIC-LOCATION:America/Sao_Paulo
BEGIN:STANDARD
DTSTART;VALUE=DATE-TIME:20220219T230000
TZNAME:BRT
TZOFFSETFROM:-0200
TZOFFSETTO:-0300
END:STANDARD
END:VTIMEZONE
END:VCALENDAR
