BEGIN:VCALENDAR
VERSION:2.0
PRODID:-//Plone.org//NONSGML plone.app.event//EN
X-WR-TIMEZONE:America/Sao_Paulo
BEGIN:VEVENT
SUMMARY:Aplicação prova Concurso em [ Auditório B101/102 do CAD 3 Audit
 ório B301 do CAD 3 Auditório B302 do CAD 3 Auditório B106 do CAD3 Audit
 ório B107 do CAD3]
DTSTART;TZID=America/Sao_Paulo;VALUE=DATE-TIME:20221203T050000
DTEND;TZID=America/Sao_Paulo;VALUE=DATE-TIME:20221204T190000
DTSTAMP;VALUE=DATE-TIME:20260421T192233Z
UID:40cac1d420f74390bc2af2c98c6486a1@150.164.76.86:8080
CREATED;VALUE=DATE-TIME:20221031T134830Z
DESCRIPTION:<p>HORÁRIO GLOBAL DE UTILIZAÇÃO 05 ÀS 19H00</p>
LAST-MODIFIED;VALUE=DATE-TIME:20230111T201123Z
URL:http://150.164.76.86:8080/cac/agenda/6168952779995176892
END:VEVENT
BEGIN:VTIMEZONE
TZID:America/Sao_Paulo
X-LIC-LOCATION:America/Sao_Paulo
BEGIN:DAYLIGHT
DTSTART;VALUE=DATE-TIME:20221016T010000
TZNAME:BRST
TZOFFSETFROM:-0300
TZOFFSETTO:-0200
END:DAYLIGHT
END:VTIMEZONE
END:VCALENDAR
