BEGIN:VCALENDAR
VERSION:2.0
PRODID:-//Plone.org//NONSGML plone.app.event//EN
X-WR-TIMEZONE:America/Sao_Paulo
BEGIN:VEVENT
SUMMARY:DESPEDIDA DAS CRIANÇAS DE 5 ANOS em [ Auditorio Nobre do CAD 1]
DTSTART;TZID=America/Sao_Paulo;VALUE=DATE-TIME:20231213T180000
DTEND;TZID=America/Sao_Paulo;VALUE=DATE-TIME:20231213T210000
DTSTAMP;VALUE=DATE-TIME:20260420T115153Z
UID:bf42ad5e91dc4a3bb416e89dca9e9a5f@150.164.76.86:8080
CREATED;VALUE=DATE-TIME:20230206T173335Z
DESCRIPTION:<p>Despedida das crianças de 5 anos da EMEI Alaíde Lisboa\, 
 topo formatura.</p>
LAST-MODIFIED;VALUE=DATE-TIME:20230911T141656Z
URL:http://150.164.76.86:8080/cac/agenda/6163273525212174395
END:VEVENT
BEGIN:VTIMEZONE
TZID:America/Sao_Paulo
X-LIC-LOCATION:America/Sao_Paulo
BEGIN:DAYLIGHT
DTSTART;VALUE=DATE-TIME:20231015T010000
TZNAME:BRST
TZOFFSETFROM:-0300
TZOFFSETTO:-0200
END:DAYLIGHT
END:VTIMEZONE
END:VCALENDAR
