BEGIN:VCALENDAR
VERSION:2.0
PRODID:-//Plone.org//NONSGML plone.app.event//EN
X-WR-TIMEZONE:America/Sao_Paulo
BEGIN:VEVENT
SUMMARY:Assembleia Geral Ordinária e Extraordinária da COOPECREMT-UFMG e
 m [ Auditorio A102 do Cad 2]
DTSTART;TZID=America/Sao_Paulo;VALUE=DATE-TIME:20220311T090000
DTEND;TZID=America/Sao_Paulo;VALUE=DATE-TIME:20220311T130000
DTSTAMP;VALUE=DATE-TIME:20260422T094046Z
UID:c975b7bd0eeb403f9f3387a879cd382e@150.164.76.86:8080
CREATED;VALUE=DATE-TIME:20220113T201223Z
DESCRIPTION:A Cooperativa de Economia e Crédito Mútuo dos Trabalhadores 
 da UFMG\, CNPJ 01918144000194\, representada pelo Presidente Idelcio Ferre
 ira dos Santos\, Servidor do DLO-UFMG\,  vem solicitar a CAC permissão pa
 ra utilização do auditório da UFMG para realização da Assembleia Gera
 l Ordinária e Extraordinária 2022\nhorário: Início às 10:00h\n       
        Termino às 13:00h\n\nPara realização do evento precisaremos dos 
 seguintes itens:\n\n- 03 microfones sem fio para a mesa\n- 01 microfone co
 m tripé para o secretário\n- Data show / notebook\n- Senha para internet
  wi-fi\n- 01 Mesa grande para servir água em copos(selada) \n- 02 mesas (
 tipo estudante) com 02 cadeiras para credenciamento e recepção do evento
 \n- 01 tripé de banner\n- Vamos precisar de 01 cabo de áudio da mesa de 
 som para filmar e transmitir a assembleia\n\nSolicitamos ainda que nos inf
 orme se será necessário levarmos material de higiene: papel hig / papel 
 toalha / sabonete líquido.\nFicaremos no aguardo de confirmação se ser
 á possível a providência dos itens acima.\n\nAtt\n\nCarlos Alberto Barb
 osa Santos\nGerente - COOPECREMT-UFMG\n(31)3491-3067\n(31)98712-1431
LAST-MODIFIED;VALUE=DATE-TIME:20220215T100949Z
URL:http://150.164.76.86:8080/cac/agenda/6161851484992176392
END:VEVENT
BEGIN:VTIMEZONE
TZID:America/Sao_Paulo
X-LIC-LOCATION:America/Sao_Paulo
BEGIN:STANDARD
DTSTART;VALUE=DATE-TIME:20220219T230000
TZNAME:BRT
TZOFFSETFROM:-0200
TZOFFSETTO:-0300
END:STANDARD
END:VTIMEZONE
END:VCALENDAR
