BEGIN:VCALENDAR
VERSION:2.0
PRODID:-//Plone.org//NONSGML plone.app.event//EN
X-WR-TIMEZONE:America/Sao_Paulo
BEGIN:VEVENT
SUMMARY:Mostra de Internacionalização da UFMG em [ Arena da praça de se
 rviços Entorno da Praca de Servicos]
DTSTART;TZID=America/Sao_Paulo;VALUE=DATE-TIME:20250522T080000
DTEND;TZID=America/Sao_Paulo;VALUE=DATE-TIME:20250522T180000
DTSTAMP;VALUE=DATE-TIME:20260419T091427Z
UID:6ae158696b65453c8dc20313e559774c@150.164.76.86:8080
CREATED;VALUE=DATE-TIME:20241203T141155Z
DESCRIPTION:<p>Solicitação de reserva da arena da praça de serviços e 
 entorno da praça de serviços para realização de atividades culturais. 
 Haverá feiras\, exposição/plantão de atendimento\, música e dança. S
 erá necessário equipamento e suporte de som e microfone. (mais detalhes 
 da programação na véspera do evento.)</p>
LAST-MODIFIED;VALUE=DATE-TIME:20241203T174926Z
URL:http://150.164.76.86:8080/cac/agenda/6151522196954434766
END:VEVENT
BEGIN:VTIMEZONE
TZID:America/Sao_Paulo
X-LIC-LOCATION:America/Sao_Paulo
BEGIN:STANDARD
DTSTART;VALUE=DATE-TIME:20250215T230000
TZNAME:BRT
TZOFFSETFROM:-0200
TZOFFSETTO:-0300
END:STANDARD
END:VTIMEZONE
END:VCALENDAR
